BEGIN:VCALENDAR
VERSION:2.0
METHOD:ADD
CALSCALE:GREGORIAN
PRODID:-//Vital Support Systems//DA
BEGIN:VEVENT
UID:97afe694-3547-4bc2-98b2-b42ee61dbe30
DTSTART:20260420T150000Z
DTEND:20260420T153000Z
LOCATION:Senior Citizens Center
DESCRIPTION:Whirling Thunder Gym Trainers visit the Senior Citizens Center with fitness tips on mobility & strength every week.
SUMMARY:Senior Exercise
PRIORITY:0
BEGIN:VALARM
Trigger:-P1D
REPEAT:1
ACTION:DISPLAY
DESCRIPTION:Reminder for:Whirling Thunder Gym Trainers visit the Senior Citizens Center with fitness tips on mobility & strength every week.
END:VALARM
END:VEVENT
END:VCALENDAR
