BEGIN:VCALENDAR
VERSION:2.0
METHOD:ADD
CALSCALE:GREGORIAN
PRODID:-//Vital Support Systems//DA
BEGIN:VEVENT
UID:c64f572e-d9c8-4d6f-8f5e-7ecbbb5eb505
DTSTART:20260420T170000Z
DTEND:20260420T180000Z
LOCATION:Whirling Thunder Wellness Center
DESCRIPTION:Circuit Training at Whirling Thunder
SUMMARY:Circuit Training
PRIORITY:0
BEGIN:VALARM
Trigger:-P1D
REPEAT:1
ACTION:DISPLAY
DESCRIPTION:Reminder for:Circuit Training at Whirling Thunder
END:VALARM
END:VEVENT
END:VCALENDAR
