BEGIN:VCALENDAR
VERSION:2.0
METHOD:ADD
CALSCALE:GREGORIAN
PRODID:-//Vital Support Systems//DA
BEGIN:VEVENT
UID:05a5da5e-85db-4bfa-bbc6-9fc0893af969
DTSTART:20260420T220000Z
DTEND:20260420T230000Z
LOCATION:Whirling Thunder Wellness Center
DESCRIPTION:Circuit Training at Whirling Thunder
SUMMARY:Circuit Training
PRIORITY:0
BEGIN:VALARM
Trigger:-P1D
REPEAT:1
ACTION:DISPLAY
DESCRIPTION:Reminder for:Circuit Training at Whirling Thunder
END:VALARM
END:VEVENT
END:VCALENDAR
